BEGIN:VCALENDAR
VERSION:2.0
PRODID:-// - ECPv5.16.2.1//NONSGML v1.0//EN
CALSCALE:GREGORIAN
METHOD:PUBLISH
X-ORIGINAL-URL:https://wsv-speyer.de
X-WR-CALDESC:Veranstaltungen für 
REFRESH-INTERVAL;VALUE=DURATION:PT1H
X-Robots-Tag:noindex
X-PUBLISHED-TTL:PT1H
BEGIN:VTIMEZONE
TZID:UTC
BEGIN:STANDARD
TZOFFSETFROM:+0000
TZOFFSETTO:+0000
TZNAME:UTC
DTSTART:20260101T000000
END:STANDARD
END:VTIMEZONE
BEGIN:VEVENT
DTSTART;TZID=UTC:20260315T080000
DTEND;TZID=UTC:20260315T170000
DTSTAMP:20260420T075140
CREATED:20260123T154412Z
LAST-MODIFIED:20260123T154412Z
UID:4589-1773561600-1773594000@wsv-speyer.de
SUMMARY:Start in den Frühling 2026
DESCRIPTION:
URL:https://wsv-speyer.de/event/start-in-den-fruehling-2026/
LOCATION:Bademaxx Speyer\, Geibstraße 3\, Speyer\, Rheinland-Pfalz\, 67346\, Deutschland
CATEGORIES:Schwimmen
END:VEVENT
END:VCALENDAR