BEGIN:VCALENDAR
VERSION:2.0
PRODID:-// - ECPv5.16.2.1//NONSGML v1.0//EN
CALSCALE:GREGORIAN
METHOD:PUBLISH
X-ORIGINAL-URL:https://wsv-speyer.de
X-WR-CALDESC:Veranstaltungen für 
REFRESH-INTERVAL;VALUE=DURATION:PT1H
X-Robots-Tag:noindex
X-PUBLISHED-TTL:PT1H
BEGIN:VTIMEZONE
TZID:UTC
BEGIN:STANDARD
TZOFFSETFROM:+0000
TZOFFSETTO:+0000
TZNAME:UTC
DTSTART:20250101T000000
END:STANDARD
END:VTIMEZONE
BEGIN:VEVENT
DTSTART;VALUE=DATE:20250906
DTEND;VALUE=DATE:20250907
DTSTAMP:20260422T190943
CREATED:20250128T100355Z
LAST-MODIFIED:20250128T100441Z
UID:4110-1757116800-1757203199@wsv-speyer.de
SUMMARY:Vereinsmeisterschaften + Vereinsfest des WSV Speyer
DESCRIPTION:
URL:https://wsv-speyer.de/event/vereinsmeisterschaften-des-wsv-speyer/
CATEGORIES:Schwimmen
END:VEVENT
END:VCALENDAR